BEGIN:VCALENDAR
VERSION:2.0
PRODID:-//eventon.com NONSGML v1.0//EN
CALSCALE:GREGORIAN
METHOD:PUBLISH
BEGIN:VEVENT
UID:69e5e222d0c80
DTSTAMP:20260420T082154Z
DTSTART:20251020
DTEND:20251021
LOCATION:Washington\,  DC\,  USA
SUMMARY:OFN Opportunity Finance Network Conference - Washington\,  DC
DESCRIPTION:Washington\,  DC The annual OFN Conference is one of the larges
 t\,  most anticipated gatherings for community development financial instit
 utions (CDFIs). Each year\,  thousands of practitioners\,  investors\,  pol
 icymakers\,  researchers\,  students\,  and more convene to learn\,  collab
 orate\,  and celebrate the work CDFIs do to expand economic opportunity. Th
 e conference offers thought-provoking plenaries\, [..]\nhttps://greenmoney.
 com/events/ofn-opportunity-finance-network-conference-washington-dc/
URL:https://greenmoney.com/events/ofn-opportunity-finance-network-conference-washington-dc/
END:VEVENT
END:VCALENDAR