BEGIN:VCALENDAR
VERSION:2.0
PRODID:-//eventon.com NONSGML v1.0//EN
CALSCALE:GREGORIAN
METHOD:PUBLISH
BEGIN:VEVENT
UID:69e73a3005801
DTSTAMP:20260421T084952Z
DTSTART:20251028
DTEND:20251029
LOCATION:San Jose\,  CA
SUMMARY:VERGE / Trellis Impact 25: Where Climate Meets Technology - San Jose\,  CA
DESCRIPTION:Convention Center\,  San Jose\,  CA VERGE empowers professional
 s decarbonizing and future-proofing their organizations and supply chains. 
 Join the early movers and fast-followers financing and deploying novel and 
 established climate technologies to gain insights on the future of the indu
 stry\,  navigate the changing policy environment\,  and deepen connections 
 for collaboration. The[..]\nhttps://greenmoney.com/events/verge-trellis-imp
 act-25-where-climate-meets-technology-san-jose-ca/
URL:https://greenmoney.com/events/verge-trellis-impact-25-where-climate-meets-technology-san-jose-ca/
END:VEVENT
END:VCALENDAR