BEGIN:VCALENDAR
VERSION:2.0
PRODID:-//eventon.com NONSGML v1.0//EN
CALSCALE:GREGORIAN
METHOD:PUBLISH
BEGIN:VEVENT
UID:69e75355c1a98
DTSTAMP:20260421T103709Z
DTSTART:20251105
DTEND:20251106
LOCATION:London\,  UK
SUMMARY:Critical Minerals Innovation Forum - London
DESCRIPTION:Events at No. 6\,  London\,  UK Over the two days\,  we&#8217;l
 l bring together 100+ sustainability leaders from across the full value cha
 in to address the biggest challenges and opportunities in critical mineral 
 sourcing. With demand for minerals like lithium\,  cobalt\,  and rare earth
 s set to quadruple by 2040\,  we’ll assess[..]\nhttps://greenmoney.com/ev
 ents/critical-minerals-innovation-forum-london-2/
URL:https://greenmoney.com/events/critical-minerals-innovation-forum-london-2/
END:VEVENT
END:VCALENDAR