BEGIN:VCALENDAR
VERSION:2.0
PRODID:-//eventon.com NONSGML v1.0//EN
CALSCALE:GREGORIAN
METHOD:PUBLISH
BEGIN:VEVENT
UID:69e73ab0a7861
DTSTAMP:20260421T085200Z
DTSTART:20260126
DTEND:20260127
LOCATION:San Diego\,  CA\,  USA
SUMMARY:2026 Cleantech Forum North America - San Diego
DESCRIPTION:Paradise Point Resort &amp; Spa\,  San Diego\,  CA Join us for 
 three days of high-quality meetings and deal-making. Cleantech Forum North 
 America is the premier event in sustainable innovation connecting investors
 \,  corporates and innovators to fuel business growth\,  climate solutions\
 ,  and impact. Learn from our analysts\,  and each other\,  about[..]\nhttp
 s://greenmoney.com/events/2026-cleantech-forum-north-america-san-diego/
URL:https://greenmoney.com/events/2026-cleantech-forum-north-america-san-diego/
END:VEVENT
END:VCALENDAR