BEGIN:VCALENDAR
VERSION:2.0
PRODID:-//eventon.com NONSGML v1.0//EN
CALSCALE:GREGORIAN
METHOD:PUBLISH
BEGIN:VEVENT
UID:69e73ae0ef629
DTSTAMP:20260421T085248Z
DTSTART:20260421
DTEND:20260422
LOCATION:Nashville\,  TN
SUMMARY:2026 Sustainable Packaging Coalition: SPC Impact – Nashville
DESCRIPTION:Nashville\,  TN This is the premier sustainable packaging event
  in the U.S.\,  bringing together 800 experts from across the value chain f
 or three days of actionable insights and high-impact networking. At SPC Imp
 act\,  sponsors can position themselves as industry leaders and connect wit
 h decision-makers across companies.  SPC Impact is where[..]\nhttps://gree
 nmoney.com/events/2026-sustainable-packaging-coalition-spc-impact-nashville
 /
URL:https://greenmoney.com/events/2026-sustainable-packaging-coalition-spc-impact-nashville/
END:VEVENT
END:VCALENDAR