BEGIN:VCALENDAR
VERSION:2.0
PRODID:-//eventon.com NONSGML v1.0//EN
CALSCALE:GREGORIAN
METHOD:PUBLISH
BEGIN:VEVENT
UID:69e4d13ae1670
DTSTAMP:20260419T125730Z
DTSTART:20260304T120000Z
DTEND:20260305T120000Z
LOCATION:London\,  UK
SUMMARY:Sustainability Live: The Net Zero Summit - London
DESCRIPTION:QEII Centre\,  Westminster London\,  UK The premier event for s
 enior sustainability leaders driving decarbonisation at scale. It will spot
 light the critical intersection between sustainability and supply chains br
 inging together procurement\,  supply chain\,  and sustainability professio
 nals to accelerate collective impact.  With 1\, 000+ in-person attendees\,
   this conference and expo delivers the strategies\, [..]\nhttps://greenmon
 ey.com/events/sustainability-live-the-net-zero-summit-london/
URL:https://greenmoney.com/events/sustainability-live-the-net-zero-summit-london/
END:VEVENT
END:VCALENDAR