BEGIN:VCALENDAR
VERSION:2.0
PRODID:-//eventon.com NONSGML v1.0//EN
CALSCALE:GREGORIAN
METHOD:PUBLISH
BEGIN:VEVENT
UID:69e74e429ecf9
DTSTAMP:20260421T101530Z
DTSTART:20260602T120000Z
DTEND:20260603T120000Z
LOCATION:London\,  UK
SUMMARY:Sustainability Data and Reporting Europe - London
DESCRIPTION:London\,  UK The premier event that shapes and informs corporat
 e sustainability reporting strategies. The time to “wait and see” is ov
 er. We know where the European regulations stand and now it’s time to tak
 e action. Even with reduced scope\,  these regulations will continue to inf
 luence supply chains\,  investor expectations\,  and[..]\nhttps://greenmone
 y.com/events/sustainability-data-and-reporting-europe-london/
URL:https://greenmoney.com/events/sustainability-data-and-reporting-europe-london/
END:VEVENT
END:VCALENDAR